BEGIN:VCALENDAR
VERSION:2.0
PRODID:-//wp-events-plugin.com//7.2.3.1//EN
TZID:Europe/Amsterdam
X-WR-TIMEZONE:Europe/Amsterdam
BEGIN:VEVENT
UID:333@deboosters.nl
DTSTART;VALUE=DATE:20260121
DTEND;VALUE=DATE:20260125
DTSTAMP:20260121T124548Z
URL:https://deboosters.nl/events/een-gebeurtenis/
SUMMARY:Een gebeurtenis
DESCRIPTION:Beste lezer\, we staan op het punt dat er iets gaat gebeuren. W
 e weten nog niet wat\, maar we wilden je vast waarschuwen...
ATTACH;FMTTYPE=image/jpeg:https://deboosters.nl/wp-content/uploads/2026/01
 /8949641_source-scaled.jpeg
CATEGORIES:activity,squash
LOCATION:Radboud Sports Center\, Heyendaalseweg\, Nijmegen\, Netherlands
X-APPLE-STRUCTURED-LOCATION;VALUE=URI;X-ADDRESS=Heyendaalseweg\, Nijmegen\,
  Netherlands;X-APPLE-RADIUS=100;X-TITLE=Radboud Sports Center:geo:0,0
END:VEVENT
END:VCALENDAR