BEGIN:VCALENDAR
VERSION:2.0
PRODID:-//wp-events-plugin.com//7.2.3.1//EN
TZID:Europe/Amsterdam
X-WR-TIMEZONE:Europe/Amsterdam
BEGIN:VEVENT
UID:340@deboosters.nl
DTSTART:20260511T190000Z
DTEND:20260511T200000Z
DTSTAMP:20260411T130519Z
URL:https://deboosters.nl/events/monday-squash-training-1900-2000-2026-05-
 11/
SUMMARY:Monday Training Beginners/Intermediate 19:00 - 20:00
DESCRIPTION:\n1. Be on time\, at least 5 minutes early\n2. Otherwise\, let 
 the trainer know if you’ll be a little late\n3. If you unregister less t
 han a day in advance\, please let the trainer know\n4. Have fun!\nTrainers
 : Inger and Sabry
ATTACH;FMTTYPE=image/jpeg:https://deboosters.nl/wp-content/uploads/2025/02
 /monday-squash.png
CATEGORIES:squash
END:VEVENT
END:VCALENDAR