BEGIN:VCALENDAR
VERSION:2.0
PRODID:-//wp-events-plugin.com//7.2.3.1//EN
TZID:Europe/Amsterdam
X-WR-TIMEZONE:Europe/Amsterdam
BEGIN:VEVENT
UID:479@deboosters.nl
DTSTART:20260523T093000Z
DTEND:20260523T170000Z
DTSTAMP:20260420T114918Z
URL:https://deboosters.nl/events/open-boosters-tournament-23-may-2026/
SUMMARY:Open Boosters Tournament 23 May 2026
DESCRIPTION:\n\nWe’re excited that you want to join the OBT!\nTo take par
 t\, simply click the button and fill out the registration form. We look fo
 rward to seeing you there!\n\nJoin the OBT\n\nTo help cover the costs of t
 he venue\, trophies\, and lunch\, we ask for a small participation fee. Pl
 ease note: the fee differs for members and non-members\, so make sure you 
 select the correct option when paying at the end of the form.\n\nDate: Sat
 urday\, May 23st 2026\nTime: Warm-up starts at 09:30 | Tournament begins 
 at 10:00 | Closing around 17:00\nLocation: Radboud Sports Centre\, Heyenda
 alseweg 141\, 6525 AJ Nijmegen\n\nFee: €5\,- for Boosters members\, €1
 0\,- for non-members\n\nImportant:\n\n 	Registration closes on May 16th 20
 26\n 	There’s a maximum of 38 participants. Once the spots are filled\, 
 registration will close regardless of the date\n 	If you want to cancel yo
 ur participation please send an email to sport@deboosters.nl\n
ATTACH;FMTTYPE=image/jpeg:https://deboosters.nl/wp-content/uploads/2026/04
 /obt-banner.jpeg
CATEGORIES:activity,squash
END:VEVENT
END:VCALENDAR