BEGIN:VCALENDAR
VERSION:2.0
PRODID:-//wp-events-plugin.com//7.2.3.1//EN
TZID:Europe/Amsterdam
X-WR-TIMEZONE:Europe/Amsterdam
BEGIN:VEVENT
UID:442@deboosters.nl
DTSTART:20260515T200000Z
DTEND:20260515T213000Z
DTSTAMP:20260327T205302Z
URL:https://deboosters.nl/events/squash-free-play-2000-2130-2026-05-15/
SUMMARY:Friday Free Play 20:00 - 21:30
DESCRIPTION:\n1. Be on time\, at least 5 minutes early\n2. Otherwise\, let 
 the trainer know if you’ll be a little late\n3. If you unregister less t
 han a day in advance\, please let the trainer know\n4. Have fun!
ATTACH;FMTTYPE=image/jpeg:https://deboosters.nl/wp-content/uploads/2025/02
 /friday-squash.png
CATEGORIES:squash
END:VEVENT
END:VCALENDAR