BEGIN:VCALENDAR
VERSION:2.0
PRODID:-//wp-events-plugin.com//7.2.3.1//EN
TZID:Europe/Amsterdam
X-WR-TIMEZONE:Europe/Amsterdam
BEGIN:VEVENT
UID:410@deboosters.nl
DTSTART:20260420T211000Z
DTEND:20260420T221500Z
DTSTAMP:20260327T205218Z
URL:https://deboosters.nl/events/squash-free-play-2110-2215-2026-04-20/
SUMMARY:Monday Free Play 21:10 - 22:15
DESCRIPTION:\n1. Be on time\, at least 5 minutes early\n2. Otherwise\, let 
 the trainer know if you’ll be a little late\n3. If you unregister less t
 han a day in advance\, please let the trainer know\n4. Have fun!
ATTACH;FMTTYPE=image/jpeg:https://deboosters.nl/wp-content/uploads/2025/02
 /monday-squash.png
CATEGORIES:squash
END:VEVENT
END:VCALENDAR