BEGIN:VCALENDAR
VERSION:2.0
PRODID:-//wp-events-plugin.com//7.2.3.1//EN
TZID:Europe/Amsterdam
X-WR-TIMEZONE:Europe/Amsterdam
BEGIN:VEVENT
UID:411@deboosters.nl
DTSTART:20260427T211000Z
DTEND:20260427T221500Z
DTSTAMP:20260327T210425Z
URL:https://deboosters.nl/events/squash-free-play-2110-2215-2026-04-27/
SUMMARY:RSC CLOSED DUE TO KINGS DAY
DESCRIPTION:RSC CLOSED DUE TO KINGS DAY!
ATTACH;FMTTYPE=image/jpeg:https://deboosters.nl/wp-content/uploads/2025/02
 /monday-squash.png
CATEGORIES:squash
END:VEVENT
END:VCALENDAR