BEGIN:VCALENDAR
VERSION:2.0
PRODID:-//wp-events-plugin.com//7.2.3.1//EN
TZID:Europe/Amsterdam
X-WR-TIMEZONE:Europe/Amsterdam
BEGIN:VEVENT
UID:383@deboosters.nl
DTSTART:20260429T201500Z
DTEND:20260429T213000Z
DTSTAMP:20260327T205427Z
URL:https://deboosters.nl/events/squash-training-2000-2100-2026-04-29/
SUMMARY:Wednesday Match Training All Levels 20:15 - 21:30
DESCRIPTION:\n1. Be on time\, at least 5 minutes early\n2. Otherwise\, let 
 the trainer know if you’ll be a little late\n3. If you unregister less t
 han a day in advance\, please let the trainer know\n4. Have fun!\n&nbsp\;
ATTACH;FMTTYPE=image/jpeg:https://deboosters.nl/wp-content/uploads/2025/02
 /wednesday-squash.png
CATEGORIES:squash
END:VEVENT
END:VCALENDAR