BEGIN:VCALENDAR
VERSION:2.0
PRODID:-//wp-events-plugin.com//7.2.3.1//EN
TZID:Europe/Amsterdam
X-WR-TIMEZONE:Europe/Amsterdam
BEGIN:VEVENT
UID:468@deboosters.nl
DTSTART:20260504T200500Z
DTEND:20260504T211000Z
DTSTAMP:20260409T134402Z
URL:https://deboosters.nl/events/squash-training-2005-2110-2026-05-04/
SUMMARY:Monday Training Intermediate/Advanced 20:05 - 21:10
DESCRIPTION:\n1. Be on time\, at least 5 minutes early\n2. Otherwise\, let 
 the trainer know if you’ll be a little late\n3. If you unregister less t
 han a day in advance\, please let the trainer know\n4. Have fun!\nTrainers
 : Chris and Wytske
ATTACH;FMTTYPE=image/jpeg:https://deboosters.nl/wp-content/uploads/2025/02
 /monday-squash.png
CATEGORIES:squash
END:VEVENT
END:VCALENDAR