BEGIN:VCALENDAR
VERSION:2.0
PRODID:-//wp-events-plugin.com//7.2.3.1//EN
TZID:Europe/Amsterdam
X-WR-TIMEZONE:Europe/Amsterdam
BEGIN:VEVENT
UID:480@deboosters.nl
DTSTART:20260524T133000Z
DTEND:20260524T200000Z
DTSTAMP:20260420T144814Z
URL:https://deboosters.nl/events/who-is-the-mole/
SUMMARY:Who is the Mole?
DESCRIPTION:Dear Boosters\,\n\nWe are preparing a super special activity fo
 r you all.\nWe are recreating the popular Dutch television series ‘Wie i
 s de Mol?’\n\nIn this activity\, we will do several games\, in which one
  person has to sabotage the rest of the group\, without being found out.\n
 We will have more information coming to you as soon as possible\, but for 
 now we would like to ask you the date for this amazing activity. A link wi
 ll be added with an episode of the serie with English subtitles.\n\nWie is
  de Mol\, Boosters edition will take place on Sunday may 24th.\nWe will st
 art at 13:30 at Ivo’s ranch (Einsteinstraat 23 in Wijchen). Dinner is in
 cluded in the activity as well!\n\nThe costs will be max. 5 euros\, but mo
 st certainly less.\n\nHopefully\, we’ll see you all there.\n\nGreetings 
 from the Accie\n\n&nbsp\;\n\nWie is de Mol S26E01
ATTACH;FMTTYPE=image/jpeg:https://deboosters.nl/wp-content/uploads/2026/04
 /Schermafbeelding-2026-04-20-164718.png
CATEGORIES:activity
LOCATION:Ivo's Ranch\, Einsteinstraat 23\, Wijchen\, 
X-APPLE-STRUCTURED-LOCATION;VALUE=URI;X-ADDRESS=Einsteinstraat 23\, Wijchen
 \, ;X-APPLE-RADIUS=100;X-TITLE=Ivo's Ranch:geo:0,0
END:VEVENT
END:VCALENDAR